BEGIN:VCALENDAR
VERSION:2.0
PRODID:-//Bandmaster//Live//JP
CALSCALE:GREGORIAN
METHOD:PUBLISH
BEGIN:VTIMEZONE
TZID:Asia/Tokyo
BEGIN:STANDARD
TZOFFSETFROM:+0900
TZOFFSETTO:+0900
TZNAME:JST
DTSTART:19700101T000000
END:STANDARD
END:VTIMEZONE
BEGIN:VEVENT
UID:103-live@withupforever.com
DTSTAMP:20260421T100933Z
DTSTART;TZID=Asia/Tokyo:20260505T173000
DTEND;TZID=Asia/Tokyo:20260505T203000
SUMMARY:Happy ChAoS
LOCATION:東高円寺二万電圧（東京）
URL:https://withupforever.com/?p=103
END:VEVENT
END:VCALENDAR
